BEGIN:VCALENDAR
VERSION:2.0
PRODID:-//Casting Society Cares - ECPv6.15.20//NONSGML v1.0//EN
CALSCALE:GREGORIAN
METHOD:PUBLISH
X-WR-CALNAME:Casting Society Cares
X-ORIGINAL-URL:https://www.castingsocietycares.org
X-WR-CALDESC:Events for Casting Society Cares
REFRESH-INTERVAL;VALUE=DURATION:PT1H
X-Robots-Tag:noindex
X-PUBLISHED-TTL:PT1H
BEGIN:VTIMEZONE
TZID:America/New_York
BEGIN:DAYLIGHT
TZOFFSETFROM:-0500
TZOFFSETTO:-0400
TZNAME:EDT
DTSTART:20250309T070000
END:DAYLIGHT
BEGIN:STANDARD
TZOFFSETFROM:-0400
TZOFFSETTO:-0500
TZNAME:EST
DTSTART:20251102T060000
END:STANDARD
BEGIN:DAYLIGHT
TZOFFSETFROM:-0500
TZOFFSETTO:-0400
TZNAME:EDT
DTSTART:20260308T070000
END:DAYLIGHT
BEGIN:STANDARD
TZOFFSETFROM:-0400
TZOFFSETTO:-0500
TZNAME:EST
DTSTART:20261101T060000
END:STANDARD
BEGIN:DAYLIGHT
TZOFFSETFROM:-0500
TZOFFSETTO:-0400
TZNAME:EDT
DTSTART:20270314T070000
END:DAYLIGHT
BEGIN:STANDARD
TZOFFSETFROM:-0400
TZOFFSETTO:-0500
TZNAME:EST
DTSTART:20271107T060000
END:STANDARD
END:VTIMEZONE
BEGIN:VTIMEZONE
TZID:America/Los_Angeles
BEGIN:DAYLIGHT
TZOFFSETFROM:-0800
TZOFFSETTO:-0700
TZNAME:PDT
DTSTART:20250309T100000
END:DAYLIGHT
BEGIN:STANDARD
TZOFFSETFROM:-0700
TZOFFSETTO:-0800
TZNAME:PST
DTSTART:20251102T090000
END:STANDARD
BEGIN:DAYLIGHT
TZOFFSETFROM:-0800
TZOFFSETTO:-0700
TZNAME:PDT
DTSTART:20260308T100000
END:DAYLIGHT
BEGIN:STANDARD
TZOFFSETFROM:-0700
TZOFFSETTO:-0800
TZNAME:PST
DTSTART:20261101T090000
END:STANDARD
BEGIN:DAYLIGHT
TZOFFSETFROM:-0800
TZOFFSETTO:-0700
TZNAME:PDT
DTSTART:20270314T100000
END:DAYLIGHT
BEGIN:STANDARD
TZOFFSETFROM:-0700
TZOFFSETTO:-0800
TZNAME:PST
DTSTART:20271107T090000
END:STANDARD
END:VTIMEZONE
BEGIN:VEVENT
DTSTART;TZID=America/New_York:20260113T080000
DTEND;TZID=America/New_York:20260211T170000
DTSTAMP:20260425T054748
CREATED:20260115T220724Z
LAST-MODIFIED:20260115T220724Z
UID:34140-1768291200-1770829200@www.castingsocietycares.org
SUMMARY:Knock Knock\, Give A Sock Donations — NY
DESCRIPTION:Please join CSC and Alliance of Resident Theatres/New York to donate unused socks for Knock Knock\, Give a Sock (KKGS) now through February 11\, 2026. \nKKGS aims to humanize homelessness one sock at a time by turning transactions of sock donations into meaningful interactions where neighbors can get to know one another. \n \nWHEN\nJanuary 13 – February 11\, 2026\nWHERE\n520 8th Ave\, 3rd Floor\, Suite 319\nNew York\, NY 10018 \nor \n138 South Oxford St\nBrooklyn\, NY 11217 \nHOW\nDonate unused socks to either of the locations listed above.\n \nNot able to drop off your donation in person / not local? You can send NEW\, UNUSED socks to the address below (or order them online to this address) before February 10:\nAmelia McCarthy\nc/o MCC Theater\n504 W 53rd St\nNew York\, NY 10019 \n\nIf you’re unable to donate socks but still want to support this cause\, consider donating. Visit the Knock Knock\, Give a Sock website here.  \nKnock Knock\, Give A Sock works to humanize homeless one sock a time by bringing neighbors living in local homeless shelters and neighbors living homes together. The organization raises awareness about who are the homeless in addition to providing them fresh socks; a much needed resource in many homeless shelters. \nStay tuned for more volunteer opportunities over the next few months with Casting Society Cares.
URL:https://www.castingsocietycares.org/event/knock-knock-give-a-sock-donations-ny/
CATEGORIES:Volunteer Opportunity
END:VEVENT
BEGIN:VEVENT
DTSTART;TZID=America/Los_Angeles:20260206T150000
DTEND;TZID=America/Los_Angeles:20260206T163000
DTSTAMP:20260425T054748
CREATED:20251211T202528Z
LAST-MODIFIED:20251211T202528Z
UID:34122-1770390000-1770395400@www.castingsocietycares.org
SUMMARY:Volunteer with CSC at My Friend's Place — LA
DESCRIPTION:Please join us at My Friend’s Place\, where CSC will help organize the clothing closet for the many young people they serve. Friends and family are welcome. Must be 18 to register.  \n*** Maximum 6 volunteers – first come\, first serve ***\n \nWHEN\nFriday\, February 6\, 2026\n3 pm – 4:30 pm PT\n \nWHERE\nMy Friend’s Place\n5850 Hollywood Blvd. \nLos Angeles\, CA 90028 \nWHO\n***NO WALK-INS ALLOWED – EVERYONE MUST REGISTER***  \n\nHOW\nEmail volunteers@castingsocietycares.org to sign up.\n \n\nIf you’re unable to attend but still want to support this cause\, consider donating. Visit the My Friend’s Place website here.  \n \nSince 1988 My Friend’s Place has been welcoming\, affirming\, and standing in partnership with young people impacted by homelessness in Hollywood and across LA. Today\, their professional staff serves over 1\,150 young people annually – providing what they need to move toward wellness\, stability and a permanent exit from homelessness – all on their own terms. \nStay tuned for more volunteer opportunities over the next few months with Casting Society Cares.
URL:https://www.castingsocietycares.org/event/volunteer-with-csc-at-my-friends-place-la/
CATEGORIES:Volunteer Opportunity
END:VEVENT
END:VCALENDAR