BEGIN:VCALENDAR
VERSION:2.0
PRODID:-//Casting Society Cares - ECPv6.15.20//NONSGML v1.0//EN
CALSCALE:GREGORIAN
METHOD:PUBLISH
X-ORIGINAL-URL:https://www.castingsocietycares.org
X-WR-CALDESC:Events for Casting Society Cares
REFRESH-INTERVAL;VALUE=DURATION:PT1H
X-Robots-Tag:noindex
X-PUBLISHED-TTL:PT1H
BEGIN:VTIMEZONE
TZID:America/Los_Angeles
BEGIN:DAYLIGHT
TZOFFSETFROM:-0800
TZOFFSETTO:-0700
TZNAME:PDT
DTSTART:20250309T100000
END:DAYLIGHT
BEGIN:STANDARD
TZOFFSETFROM:-0700
TZOFFSETTO:-0800
TZNAME:PST
DTSTART:20251102T090000
END:STANDARD
BEGIN:DAYLIGHT
TZOFFSETFROM:-0800
TZOFFSETTO:-0700
TZNAME:PDT
DTSTART:20260308T100000
END:DAYLIGHT
BEGIN:STANDARD
TZOFFSETFROM:-0700
TZOFFSETTO:-0800
TZNAME:PST
DTSTART:20261101T090000
END:STANDARD
BEGIN:DAYLIGHT
TZOFFSETFROM:-0800
TZOFFSETTO:-0700
TZNAME:PDT
DTSTART:20270314T100000
END:DAYLIGHT
BEGIN:STANDARD
TZOFFSETFROM:-0700
TZOFFSETTO:-0800
TZNAME:PST
DTSTART:20271107T090000
END:STANDARD
END:VTIMEZONE
BEGIN:VEVENT
DTSTART;TZID=America/Los_Angeles:20260609T070000
DTEND;TZID=America/Los_Angeles:20260611T170000
DTSTAMP:20260425T054858
CREATED:20260324T183324Z
LAST-MODIFIED:20260324T183324Z
UID:34185-1780988400-1781197200@www.castingsocietycares.org
SUMMARY:Volunteer with CSC at Actors Pro Expo — Virtual
DESCRIPTION:We invite you to join Casting Society Cares as we once-again collaborate with Actors Pro Expo to benefit local food banks all over the world with the Meals 4 Monologues events. \nMeals 4 Monologues provides an opportunity for artists of all levels and experience to share a short monologue or song with casting professionals\, while giving back to the community with an option to donate (food or funds) to the food bank of their choice\, or via our fundraising page\, to Feeding America. \nSimilarly to last year\, Casting Society Cares is hosting this Meals 4 Monologues virtually. \nThis virtual event will be held on Tuesday\, June 9th\, Wednesday\, June 10th\, and Thursday\, June 11th 2026. \nPLEASE NOTE: This is NOT an open call. All talent will be registered through Actor’s Pro Expo. \nIf you are interested in participating\, please complete this google form by Friday\, April 24\, 2026.  \n– This is NOT an open call – \nCasting must register \nWHEN\nJune 9-11\, 2026\n7:00 am – 3:00 pm PT \nWHERE\nThis is a virtual event \nWHO\nCSA Members & Public  \nHOW\nCasting must register to participate by April 24\, 2026\nAll talent will be registered through Actors Pro Expo \n\nActors Pro Expo Virtual break geographical barriers\, allowing global participation without the need for travel\, making them more inclusive for individuals with mobility or financial constraints. The virtual platforms provide advanced engagement tools\, such as live chats\, Q&A sessions\, and interactive polls\, fostering real-time interaction that can sometimes surpass in-person networking.  \n  \nCSC is committed to creating as comfortable and inclusive an environment as possible. If any accommodations are needed\, please note it when signing up and we will be in contact with you. \nPlease email Danielle Pretsfelder Demchick\, CSA if you have any questions. \nCheck back regularly for more volunteer opportunities with Casting Society Cares.
URL:https://www.castingsocietycares.org/event/volunteer-with-csc-at-actors-pro-expo-virtual/
CATEGORIES:Volunteer Opportunity
END:VEVENT
BEGIN:VEVENT
DTSTART;TZID=America/Los_Angeles:20260620T083000
DTEND;TZID=America/Los_Angeles:20260620T110000
DTSTAMP:20260425T054858
CREATED:20260423T181205Z
LAST-MODIFIED:20260423T181205Z
UID:34217-1781944200-1781953200@www.castingsocietycares.org
SUMMARY:Volunteer with CSC at Griffith Park — LA
DESCRIPTION:Join Casting Society Cares as we partner with Friends of Griffith Park for a morning of hands-on volunteer work. We’ll be pruning\, removing invasive plants\, and helping with general maintenance to support the park’s ecosystem. Family and friends are welcome. \nFounded to protect\, preserve\, and enhance Griffith Park\, Friends of Griffith Park works to ensure this iconic Los Angeles landmark remains a thriving natural space for generations to come. Through restoration projects\, community engagement\, and ongoing maintenance efforts\, they play a vital role in caring for one of the largest urban parks in the country. Learn more about their mission at https://friendsofgriffithpark.org/our-mission/\n \nWHEN\nSaturday\, June 20\, 2026\n8:30 am – 11:00 am PT\n \nWHERE\nGriffith Park Los Angeles\, CA\nExact meeting location will be shared closer to the date\n \nWHO\nFriends and family are welcome.  \nHOW\nEmail volunteers@castingsocietycares.org to register.\n \n\nIf you’re unable to attend but still want to support this cause\, consider donating or learning more through the Friends of Griffith Park website. Every bit of support helps preserve this beloved community space! \nStay tuned for more volunteer opportunities over the next few months with Casting Society Cares.
URL:https://www.castingsocietycares.org/event/volunteer-with-csc-at-griffith-park-la/
CATEGORIES:Volunteer Opportunity
END:VEVENT
END:VCALENDAR